BEGIN:VCALENDAR
METHOD:PUBLISH
PRODID:-//github.com/rianjs/ical.net//NONSGML ical.net 4.0//EN
URL:https://www.staffsunion.com/ents/event/ics/17004/
VERSION:2.0
X-PUBLISHED-TTL:PT1H
X-WR-CALNAME:Commuter coffee and chat drop in (17004)
BEGIN:VTIMEZONE
TZID:GMT Standard Time
X-LIC-LOCATION:Europe/London
BEGIN:STANDARD
DTSTART:20241027T020000
RRULE:FREQ=YEARLY;BYDAY=4SU;BYMONTH=10
TZNAME:GMT
TZOFFSETFROM:+0100
TZOFFSETTO:+0000
END:STANDARD
BEGIN:DAYLIGHT
DTSTART:20250330T010000
RRULE:FREQ=YEARLY;BYDAY=-1SU;BYMONTH=3
TZNAME:BST
TZOFFSETFROM:+0000
TZOFFSETTO:+0100
END:DAYLIGHT
END:VTIMEZONE
BEGIN:VEVENT
CATEGORIES:Health and Wellbeing
CREATED:20210929T121606
DESCRIPTION:Commuter coffee and chat drop in\n\nCome along and grab a past
 ry and a 50p off voucher for Costa and meet other commuter students\, hav
 e a cuppa and relax\n\nScience centre foyer\n\nRun by the Student Support
  and Wellbeing Teams\n\nhttps://www.staffsunion.com/events/7810/17004/\n
DTEND:20211118T094500
DTSTAMP:20260423T043737Z
DTSTART:20211118T083000
LAST-MODIFIED:20211004T164733
LOCATION:Science Centre Foyer
SEQUENCE:0
SUMMARY:Commuter coffee and chat drop in
UID:1b29269d-9268-418c-a35b-d20b9d87ec49
URL:https://www.staffsunion.com/events/7810/17004/
X-ALT-DESC;FMTTYPE=text/html:<html><head><base href="https://www.staffsuni
 on.com"></head><body><p>Commuter coffee and chat drop in\n\nCome along an
 d grab a pastry and a 50p off voucher for Costa and meet other commuter s
 tudents\, have a cuppa and relax\n\nScience centre foyer\n\nRun by the St
 udent Support and Wellbeing Teams</p><p>https://www.staffsunion.com/event
 s/7810/17004/</p>\n<p>Commuter coffee and chat drop in</p>\n\n<p>Come alo
 ng and grab a pastry and a 50p off voucher for Costa and meet other commu
 ter students\, have a cuppa and relax</p>\n\n<p>Science centre foyer</p>\
 n\n<p>Run by the Student Support and Wellbeing Teams.</p></body></html>
END:VEVENT
END:VCALENDAR
