BEGIN:VCALENDAR
METHOD:PUBLISH
PRODID:-//github.com/rianjs/ical.net//NONSGML ical.net 4.0//EN
URL:https://www.staffsunion.com/ents/event/ics/17166/
VERSION:2.0
X-PUBLISHED-TTL:PT1H
X-WR-CALNAME:Chess Club - Weekly Meeting (17166)
BEGIN:VTIMEZONE
TZID:GMT Standard Time
X-LIC-LOCATION:Europe/London
BEGIN:STANDARD
DTSTART:20241027T020000
RRULE:FREQ=YEARLY;BYDAY=4SU;BYMONTH=10
TZNAME:GMT
TZOFFSETFROM:+0100
TZOFFSETTO:+0000
END:STANDARD
BEGIN:DAYLIGHT
DTSTART:20250330T010000
RRULE:FREQ=YEARLY;BYDAY=-1SU;BYMONTH=3
TZNAME:BST
TZOFFSETFROM:+0000
TZOFFSETTO:+0100
END:DAYLIGHT
END:VTIMEZONE
BEGIN:VEVENT
CATEGORIES:Activities and Games
CATEGORIES:Give it a Go
CREATED:20211021T122351
DESCRIPTION:During our weekly meetings we'll be playing over the board che
 ss whilst socializing and helping our newer players learn.\n\nhttps://www
 .staffsunion.com/events/7203/17166/\n
DTEND:20211208T200000
DTSTAMP:20260420T234754Z
DTSTART:20211208T180000
LAST-MODIFIED:20211124T114514
LOCATION:LT014 (Leek Rd\, Ashley Building)
SEQUENCE:0
SUMMARY:Chess Club - Weekly Meeting
UID:aee5f64b-ae79-4db4-8a08-f6bd9e28422d
URL:https://www.staffsunion.com/events/7203/17166/
X-ALT-DESC;FMTTYPE=text/html:<html><head><base href="https://www.staffsuni
 on.com"></head><body><p>During our weekly meetings we'll be playing over 
 the board chess whilst socializing and helping our newer players learn.</
 p><p>https://www.staffsunion.com/events/7203/17166/</p>\n<p>During our we
 ekly meetings we&#39\;ll be playing over the board chess whilst socializi
 ng and helping our newer players learn.</p></body></html>
END:VEVENT
END:VCALENDAR
