BEGIN:VCALENDAR
METHOD:PUBLISH
PRODID:-//github.com/rianjs/ical.net//NONSGML ical.net 4.0//EN
URL:https://www.staffsunion.com/ents/event/ics/17500/
VERSION:2.0
X-PUBLISHED-TTL:PT1H
X-WR-CALNAME:Idol Society - Weekly meeting (17500)
BEGIN:VTIMEZONE
TZID:GMT Standard Time
X-LIC-LOCATION:Europe/London
BEGIN:STANDARD
DTSTART:20241027T020000
RRULE:FREQ=YEARLY;BYDAY=4SU;BYMONTH=10
TZNAME:GMT
TZOFFSETFROM:+0100
TZOFFSETTO:+0000
END:STANDARD
BEGIN:DAYLIGHT
DTSTART:20250330T010000
RRULE:FREQ=YEARLY;BYDAY=-1SU;BYMONTH=3
TZNAME:BST
TZOFFSETFROM:+0000
TZOFFSETTO:+0100
END:DAYLIGHT
END:VTIMEZONE
BEGIN:VEVENT
CREATED:20211109T133007
DESCRIPTION:https://www.staffsunion.com/ents/event/17500/\n
DTEND:20211221T210000
DTSTAMP:20260421T102458Z
DTSTART:20211221T184000
LAST-MODIFIED:20211123T102526
LOCATION:Flaxman L140
SEQUENCE:0
SUMMARY:Idol Society - Weekly meeting
UID:e071f557-cc83-4d3b-b2e3-832ffad4c1e6
URL:https://www.staffsunion.com/ents/event/17500/
X-ALT-DESC;FMTTYPE=text/html:<html><head><base href="https://www.staffsuni
 on.com"></head><body><p>https://www.staffsunion.com/ents/event/17500/</p>
 \n</body></html>
END:VEVENT
END:VCALENDAR
