BEGIN:VCALENDAR
METHOD:PUBLISH
PRODID:-//github.com/rianjs/ical.net//NONSGML ical.net 4.0//EN
URL:https://www.staffsunion.com/ents/event/ics/17506/
VERSION:2.0
X-PUBLISHED-TTL:PT1H
X-WR-CALNAME:Idol Society - Weekly Meeting (17506)
BEGIN:VTIMEZONE
TZID:GMT Standard Time
X-LIC-LOCATION:Europe/London
BEGIN:STANDARD
DTSTART:20241027T020000
RRULE:FREQ=YEARLY;BYDAY=4SU;BYMONTH=10
TZNAME:GMT
TZOFFSETFROM:+0100
TZOFFSETTO:+0000
END:STANDARD
BEGIN:DAYLIGHT
DTSTART:20250330T010000
RRULE:FREQ=YEARLY;BYDAY=-1SU;BYMONTH=3
TZNAME:BST
TZOFFSETFROM:+0000
TZOFFSETTO:+0100
END:DAYLIGHT
END:VTIMEZONE
BEGIN:VEVENT
CREATED:20211109T133100
DESCRIPTION:https://www.staffsunion.com/ents/event/17506/\n
DTEND:20211216T210000
DTSTAMP:20260419T204617Z
DTSTART:20211216T170000
LAST-MODIFIED:20211123T102449
LOCATION:Flaxman L410
SEQUENCE:0
SUMMARY:Idol Society - Weekly Meeting
UID:b2caeb76-2d3a-4f00-916c-260cb1e8b5c7
URL:https://www.staffsunion.com/ents/event/17506/
X-ALT-DESC;FMTTYPE=text/html:<html><head><base href="https://www.staffsuni
 on.com"></head><body><p>https://www.staffsunion.com/ents/event/17506/</p>
 \n</body></html>
END:VEVENT
END:VCALENDAR
