BEGIN:VCALENDAR
METHOD:PUBLISH
PRODID:-//github.com/rianjs/ical.net//NONSGML ical.net 4.0//EN
URL:https://www.staffsunion.com/ents/event/ics/18362/
VERSION:2.0
X-PUBLISHED-TTL:PT1H
X-WR-CALNAME:Myth Society - Monday Wargames (18362)
BEGIN:VTIMEZONE
TZID:GMT Standard Time
X-LIC-LOCATION:Europe/London
BEGIN:STANDARD
DTSTART:20241027T020000
RRULE:FREQ=YEARLY;BYDAY=4SU;BYMONTH=10
TZNAME:GMT
TZOFFSETFROM:+0100
TZOFFSETTO:+0000
END:STANDARD
BEGIN:DAYLIGHT
DTSTART:20250330T010000
RRULE:FREQ=YEARLY;BYDAY=-1SU;BYMONTH=3
TZNAME:BST
TZOFFSETFROM:+0000
TZOFFSETTO:+0100
END:DAYLIGHT
END:VTIMEZONE
BEGIN:VEVENT
CATEGORIES:Activities and Games
CATEGORIES:Give it a Go
CREATED:20220208T002138
DESCRIPTION:Weekly Wargames night for Myth Members.\n\nhttps://www.staffsu
 nion.com/events/6236/18362/\n
DTEND:20220523T220000
DTSTAMP:20260425T222110Z
DTSTART:20220523T170000
LAST-MODIFIED:20220208T002138
LOCATION:L216
SEQUENCE:0
SUMMARY:Myth Society - Monday Wargames
UID:476cb584-43e5-4359-b7ef-a1690793a564
URL:https://www.staffsunion.com/events/6236/18362/
X-ALT-DESC;FMTTYPE=text/html:<html><head><base href="https://www.staffsuni
 on.com"></head><body><p>Weekly Wargames night for Myth Members.</p><p>htt
 ps://www.staffsunion.com/events/6236/18362/</p>\n</body></html>
END:VEVENT
END:VCALENDAR
