BEGIN:VCALENDAR
METHOD:PUBLISH
PRODID:-//github.com/rianjs/ical.net//NONSGML ical.net 4.0//EN
URL:https://www.staffsunion.com/ents/event/ics/18385/
VERSION:2.0
X-PUBLISHED-TTL:PT1H
X-WR-CALNAME:Myth Society - Thursday Card Games (18385)
BEGIN:VTIMEZONE
TZID:GMT Standard Time
X-LIC-LOCATION:Europe/London
BEGIN:STANDARD
DTSTART:20241027T020000
RRULE:FREQ=YEARLY;BYDAY=4SU;BYMONTH=10
TZNAME:GMT
TZOFFSETFROM:+0100
TZOFFSETTO:+0000
END:STANDARD
BEGIN:DAYLIGHT
DTSTART:20250330T010000
RRULE:FREQ=YEARLY;BYDAY=-1SU;BYMONTH=3
TZNAME:BST
TZOFFSETFROM:+0000
TZOFFSETTO:+0100
END:DAYLIGHT
END:VTIMEZONE
BEGIN:VEVENT
CATEGORIES:Activities and Games
CATEGORIES:Give it a Go
CREATED:20220208T002342
DESCRIPTION:Weekly Cardgames night for Myth Members.\n\nhttps://www.staffs
 union.com/events/6236/18385/\n
DTEND:20220602T220000
DTSTAMP:20260421T091914Z
DTSTART:20220602T170000
LAST-MODIFIED:20220208T002342
LOCATION:L100 - L101
SEQUENCE:0
SUMMARY:Myth Society - Thursday Card Games
UID:f2549614-ded5-4d1c-a294-6db7baecd0ec
URL:https://www.staffsunion.com/events/6236/18385/
X-ALT-DESC;FMTTYPE=text/html:<html><head><base href="https://www.staffsuni
 on.com"></head><body><p>Weekly Cardgames night for Myth Members.</p><p>ht
 tps://www.staffsunion.com/events/6236/18385/</p>\n</body></html>
END:VEVENT
END:VCALENDAR
