BEGIN:VCALENDAR
METHOD:PUBLISH
PRODID:-//github.com/rianjs/ical.net//NONSGML ical.net 4.0//EN
URL:https://www.staffsunion.com/ents/event/ics/19178/
VERSION:2.0
X-PUBLISHED-TTL:PT1H
X-WR-CALNAME:Stafford Welcome Fair (19178)
BEGIN:VTIMEZONE
TZID:GMT Standard Time
X-LIC-LOCATION:Europe/London
BEGIN:STANDARD
DTSTART:20241027T020000
RRULE:FREQ=YEARLY;BYDAY=4SU;BYMONTH=10
TZNAME:GMT
TZOFFSETFROM:+0100
TZOFFSETTO:+0000
END:STANDARD
BEGIN:DAYLIGHT
DTSTART:20250330T010000
RRULE:FREQ=YEARLY;BYDAY=-1SU;BYMONTH=3
TZNAME:BST
TZOFFSETFROM:+0000
TZOFFSETTO:+0100
END:DAYLIGHT
END:VTIMEZONE
BEGIN:VEVENT
CATEGORIES:Welcome Events
CREATED:20220909T190204
DESCRIPTION:Join us at the Stafford welcome fair\, we are looking forward 
 to meeting you all!!!\n\nhttps://www.staffsunion.com/events/28171/19178/\
 n
DTEND:20220929T150000
DTSTAMP:20260423T022540Z
DTSTART:20220929T103000
LAST-MODIFIED:20220914T165108
LOCATION:Blackheath Lane Campus
SEQUENCE:0
SUMMARY:Stafford Welcome Fair
UID:c6868e71-33ee-4fbf-9605-796a35496df2
URL:https://www.staffsunion.com/events/28171/19178/
X-ALT-DESC;FMTTYPE=text/html:<html><head><base href="https://www.staffsuni
 on.com"></head><body><p>Join us at the Stafford welcome fair\, we are loo
 king forward to meeting you all!!!</p><p>https://www.staffsunion.com/even
 ts/28171/19178/</p>\n</body></html>
END:VEVENT
END:VCALENDAR
