BEGIN:VCALENDAR
METHOD:PUBLISH
PRODID:-//github.com/rianjs/ical.net//NONSGML ical.net 4.0//EN
URL:https://www.staffsunion.com/ents/event/ics/19228/
VERSION:2.0
X-PUBLISHED-TTL:PT1H
X-WR-CALNAME:Pom Dance - Give It A Go! (19228)
BEGIN:VTIMEZONE
TZID:GMT Standard Time
X-LIC-LOCATION:Europe/London
BEGIN:STANDARD
DTSTART:20241027T020000
RRULE:FREQ=YEARLY;BYDAY=4SU;BYMONTH=10
TZNAME:GMT
TZOFFSETFROM:+0100
TZOFFSETTO:+0000
END:STANDARD
BEGIN:DAYLIGHT
DTSTART:20250330T010000
RRULE:FREQ=YEARLY;BYDAY=-1SU;BYMONTH=3
TZNAME:BST
TZOFFSETFROM:+0000
TZOFFSETTO:+0100
END:DAYLIGHT
END:VTIMEZONE
BEGIN:VEVENT
CATEGORIES:Give it a Go
CREATED:20220915T193700
DESCRIPTION:Come join us for the pom dance give it a go!\n\nhttps://www.st
 affsunion.com/events/6092/19228/\n
DTEND:20221006T181500
DTSTAMP:20260419T182056Z
DTSTART:20221006T163000
LAST-MODIFIED:20220915T193700
LOCATION:SIxth Form College - Dance Studio
SEQUENCE:0
SUMMARY:Pom Dance - Give It A Go!
UID:ba867f82-7095-4a1e-bea8-ee8fa746cd6d
URL:https://www.staffsunion.com/events/6092/19228/
X-ALT-DESC;FMTTYPE=text/html:<html><head><base href="https://www.staffsuni
 on.com"></head><body><p>Come join us for the pom dance give it a go!</p><
 p>https://www.staffsunion.com/events/6092/19228/</p>\n</body></html>
END:VEVENT
END:VCALENDAR
