BEGIN:VCALENDAR
METHOD:PUBLISH
PRODID:-//github.com/rianjs/ical.net//NONSGML ical.net 4.0//EN
URL:https://www.staffsunion.com/ents/event/ics/19232/
VERSION:2.0
X-PUBLISHED-TTL:PT1H
X-WR-CALNAME:Cheerleading - Give It A Go! (19232)
BEGIN:VTIMEZONE
TZID:GMT Standard Time
X-LIC-LOCATION:Europe/London
BEGIN:STANDARD
DTSTART:20241027T020000
RRULE:FREQ=YEARLY;BYDAY=4SU;BYMONTH=10
TZNAME:GMT
TZOFFSETFROM:+0100
TZOFFSETTO:+0000
END:STANDARD
BEGIN:DAYLIGHT
DTSTART:20250330T010000
RRULE:FREQ=YEARLY;BYDAY=-1SU;BYMONTH=3
TZNAME:BST
TZOFFSETFROM:+0000
TZOFFSETTO:+0100
END:DAYLIGHT
END:VTIMEZONE
BEGIN:VEVENT
CATEGORIES:Give it a Go
CREATED:20220915T201017
DESCRIPTION:Come join us for the Cheerleading give it a go!\n\nhttps://www
 .staffsunion.com/events/6092/19232/\n
DTEND:20221007T190000
DTSTAMP:20260422T030129Z
DTSTART:20221007T170000
LAST-MODIFIED:20220915T201017
LOCATION:Sir Stanley Matthews Sports Centre
SEQUENCE:0
SUMMARY:Cheerleading - Give It A Go!
UID:5f4e9ab4-cbc3-450a-b05f-0fdd3f46b2d1
URL:https://www.staffsunion.com/events/6092/19232/
X-ALT-DESC;FMTTYPE=text/html:<html><head><base href="https://www.staffsuni
 on.com"></head><body><p>Come join us for the Cheerleading give it a go!</
 p><p>https://www.staffsunion.com/events/6092/19232/</p>\n</body></html>
END:VEVENT
END:VCALENDAR
