BEGIN:VCALENDAR
METHOD:PUBLISH
PRODID:-//github.com/rianjs/ical.net//NONSGML ical.net 4.0//EN
URL:https://www.staffsunion.com/ents/event/ics/19343/
VERSION:2.0
X-PUBLISHED-TTL:PT1H
X-WR-CALNAME:Give It A Go Session (19343)
BEGIN:VTIMEZONE
TZID:GMT Standard Time
X-LIC-LOCATION:Europe/London
BEGIN:STANDARD
DTSTART:20241027T020000
RRULE:FREQ=YEARLY;BYDAY=4SU;BYMONTH=10
TZNAME:GMT
TZOFFSETFROM:+0100
TZOFFSETTO:+0000
END:STANDARD
BEGIN:DAYLIGHT
DTSTART:20250330T010000
RRULE:FREQ=YEARLY;BYDAY=-1SU;BYMONTH=3
TZNAME:BST
TZOFFSETFROM:+0000
TZOFFSETTO:+0100
END:DAYLIGHT
END:VTIMEZONE
BEGIN:VEVENT
CATEGORIES:Inclusion
CATEGORIES:Give it a Go
CATEGORIES:Family Friendly
CATEGORIES:University events
CATEGORIES:LGBTQ+
CATEGORIES:Welcome Events
CREATED:20220921T152053
DESCRIPTION:A give it a go session for everyone to try out cosy club!\n\nh
 ttps://www.staffsunion.com/events/28096/19343/\n
DTEND:20220927T140000
DTSTAMP:20260419T145723Z
DTSTART:20220927T130000
LAST-MODIFIED:20220923T175359
LOCATION:Flaxman Building Room L101
SEQUENCE:0
SUMMARY:Give It A Go Session
UID:73cf190a-cc33-487f-ada7-c513fcc835b1
URL:https://www.staffsunion.com/events/28096/19343/
X-ALT-DESC;FMTTYPE=text/html:<html><head><base href="https://www.staffsuni
 on.com"></head><body><p>A give it a go session for everyone to try out co
 sy club!</p><p>https://www.staffsunion.com/events/28096/19343/</p>\n<p>A 
 give it a go session for everyone to try out cosy club!</p>\n\n<p>We will
  be doing a range of activities and just talking about what you can expec
 t from our society during term time :).</p>\n\n<p>Please purchase a free 
 expression of interest if you plan on attending!</p></body></html>
END:VEVENT
END:VCALENDAR
