BEGIN:VCALENDAR
METHOD:PUBLISH
PRODID:-//github.com/rianjs/ical.net//NONSGML ical.net 4.0//EN
URL:https://www.staffsunion.com/ents/event/ics/19361/
VERSION:2.0
X-PUBLISHED-TTL:PT1H
X-WR-CALNAME:Smash Society - October 30th Friday Give-It-A-Go (19361)
BEGIN:VTIMEZONE
TZID:GMT Standard Time
X-LIC-LOCATION:Europe/London
BEGIN:STANDARD
DTSTART:20241027T020000
RRULE:FREQ=YEARLY;BYDAY=4SU;BYMONTH=10
TZNAME:GMT
TZOFFSETFROM:+0100
TZOFFSETTO:+0000
END:STANDARD
BEGIN:DAYLIGHT
DTSTART:20250330T010000
RRULE:FREQ=YEARLY;BYDAY=-1SU;BYMONTH=3
TZNAME:BST
TZOFFSETFROM:+0000
TZOFFSETTO:+0100
END:DAYLIGHT
END:VTIMEZONE
BEGIN:VEVENT
CATEGORIES:Activities and Games
CATEGORIES:Give it a Go
CATEGORIES:Esports and Gaming
CREATED:20220923T160546
DESCRIPTION:Our first meet up of the year off of the back of welcome week!
  If you saw us at the welcome fair then this is the first time to come se
 e a meet up!\n\nhttps://www.staffsunion.com/events/19702/19361/\n
DTEND:20220930T200000
DTSTAMP:20260423T183028Z
DTSTART:20220930T160000
LAST-MODIFIED:20220923T160546
LOCATION:Mellor Building S500
SEQUENCE:0
SUMMARY:Smash Society - October 30th Friday Give-It-A-Go
UID:617cb56c-b765-4cdd-bdda-bc4f5bd85d02
URL:https://www.staffsunion.com/events/19702/19361/
X-ALT-DESC;FMTTYPE=text/html:<html><head><base href="https://www.staffsuni
 on.com"></head><body><p>Our first meet up of the year off of the back of 
 welcome week! If you saw us at the welcome fair then this is the first ti
 me to come see a meet up!</p><p>https://www.staffsunion.com/events/19702/
 19361/</p>\n</body></html>
END:VEVENT
END:VCALENDAR
