BEGIN:VCALENDAR
METHOD:PUBLISH
PRODID:-//github.com/rianjs/ical.net//NONSGML ical.net 4.0//EN
URL:https://www.staffsunion.com/ents/event/ics/19364/
VERSION:2.0
X-PUBLISHED-TTL:PT1H
X-WR-CALNAME:Life Drawing Session (19364)
BEGIN:VTIMEZONE
TZID:GMT Standard Time
X-LIC-LOCATION:Europe/London
BEGIN:STANDARD
DTSTART:20241027T020000
RRULE:FREQ=YEARLY;BYDAY=4SU;BYMONTH=10
TZNAME:GMT
TZOFFSETFROM:+0100
TZOFFSETTO:+0000
END:STANDARD
BEGIN:DAYLIGHT
DTSTART:20250330T010000
RRULE:FREQ=YEARLY;BYDAY=-1SU;BYMONTH=3
TZNAME:BST
TZOFFSETFROM:+0000
TZOFFSETTO:+0100
END:DAYLIGHT
END:VTIMEZONE
BEGIN:VEVENT
CATEGORIES:Give it a Go
CREATED:20220923T173202
DESCRIPTION:Life Drawing GIAG Session! In Dwight K009!\n\nhttps://www.staf
 fsunion.com/events/28086/19364/\n
DTEND:20221003T200000
DTSTAMP:20260422T040744Z
DTSTART:20221003T180000
LAST-MODIFIED:20221003T161450
LOCATION:k009 Dwight Builduing
SEQUENCE:0
SUMMARY:Life Drawing Session
UID:0dad0f23-1940-419c-b640-667f2576943b
URL:https://www.staffsunion.com/events/28086/19364/
X-ALT-DESC;FMTTYPE=text/html:<html><head><base href="https://www.staffsuni
 on.com"></head><body><p>Life Drawing GIAG Session! In Dwight K009!</p><p>
 https://www.staffsunion.com/events/28086/19364/</p>\n</body></html>
END:VEVENT
END:VCALENDAR
