BEGIN:VCALENDAR
METHOD:PUBLISH
PRODID:-//github.com/rianjs/ical.net//NONSGML ical.net 4.0//EN
URL:https://www.staffsunion.com/ents/event/ics/21856/
VERSION:2.0
X-PUBLISHED-TTL:PT1H
X-WR-CALNAME:Give it a go Session (21856)
BEGIN:VTIMEZONE
TZID:GMT Standard Time
X-LIC-LOCATION:Europe/London
BEGIN:STANDARD
DTSTART:20241027T020000
RRULE:FREQ=YEARLY;BYDAY=4SU;BYMONTH=10
TZNAME:GMT
TZOFFSETFROM:+0100
TZOFFSETTO:+0000
END:STANDARD
BEGIN:DAYLIGHT
DTSTART:20250330T010000
RRULE:FREQ=YEARLY;BYDAY=-1SU;BYMONTH=3
TZNAME:BST
TZOFFSETFROM:+0000
TZOFFSETTO:+0100
END:DAYLIGHT
END:VTIMEZONE
BEGIN:VEVENT
CATEGORIES:Family Friendly
CATEGORIES:Activities and Games
CATEGORIES:Give it a Go
CATEGORIES:Welcome Events
CATEGORIES:University events
CATEGORIES:Inclusion
CREATED:20230914T181524
DESCRIPTION:Our give it a go session for an introduction to our society! :
 )\n\nhttps://www.staffsunion.com/events/28096/21856/\n
DTEND:20230929T150000
DTSTAMP:20260420T140905Z
DTSTART:20230929T133000
LAST-MODIFIED:20230922T170734
LOCATION:L414 Flaxman Building
SEQUENCE:0
SUMMARY:Give it a go Session
UID:f9e6af3e-7eab-4628-80b7-e0b0640538e7
URL:https://www.staffsunion.com/events/28096/21856/
X-ALT-DESC;FMTTYPE=text/html:<html><head><base href="https://www.staffsuni
 on.com"></head><body><p>Our give it a go session for an introduction to o
 ur society! :)</p><p>https://www.staffsunion.com/events/28096/21856/</p>\
 n<p>This session will be open for everyone\, we&#39\;ll talk about what y
 ou can expect from us as a society over the year and introduce ourselves.
  We&#39\;ll then do some artsy activities with a prize at the end!</p></b
 ody></html>
END:VEVENT
END:VCALENDAR
