BEGIN:VCALENDAR
METHOD:PUBLISH
PRODID:-//github.com/rianjs/ical.net//NONSGML ical.net 4.0//EN
URL:https://www.staffsunion.com/ents/event/ics/22067/
VERSION:2.0
X-PUBLISHED-TTL:PT1H
X-WR-CALNAME:Life Drawing GIAG (22067)
BEGIN:VTIMEZONE
TZID:GMT Standard Time
X-LIC-LOCATION:Europe/London
BEGIN:STANDARD
DTSTART:20241027T020000
RRULE:FREQ=YEARLY;BYDAY=4SU;BYMONTH=10
TZNAME:GMT
TZOFFSETFROM:+0100
TZOFFSETTO:+0000
END:STANDARD
BEGIN:DAYLIGHT
DTSTART:20250330T010000
RRULE:FREQ=YEARLY;BYDAY=-1SU;BYMONTH=3
TZNAME:BST
TZOFFSETFROM:+0000
TZOFFSETTO:+0100
END:DAYLIGHT
END:VTIMEZONE
BEGIN:VEVENT
CATEGORIES:Give it a Go
CATEGORIES:Welcome Events
CREATED:20230927T164231
DESCRIPTION:GIAG for Lifedrawing!\nBring your own supplies :D\n\nhttps://w
 ww.staffsunion.com/events/28086/22067/\n
DTEND:20231002T190000
DTSTAMP:20260422T180809Z
DTSTART:20231002T180000
LAST-MODIFIED:20230927T194436
LOCATION:K020 Dwight Building
SEQUENCE:0
SUMMARY:Life Drawing GIAG
UID:56347714-2820-4159-9b31-8889d1141a5b
URL:https://www.staffsunion.com/events/28086/22067/
X-ALT-DESC;FMTTYPE=text/html:<html><head><base href="https://www.staffsuni
 on.com"></head><body><p>GIAG for Lifedrawing!\nBring your own supplies :D
 </p><p>https://www.staffsunion.com/events/28086/22067/</p>\n<h3>Life Draw
 ing Society are holding a free give it a go session and you are welcome t
 o join us.&nbsp\;</h3>\n\n<h3>Our sessions are really popular and <strong
 >places are limted</strong> so please ensure that you have purchased your
  free ticket to secure your place.</h3></body></html>
END:VEVENT
END:VCALENDAR
