BEGIN:VCALENDAR
METHOD:PUBLISH
PRODID:-//github.com/rianjs/ical.net//NONSGML ical.net 4.0//EN
URL:https://www.staffsunion.com/ents/event/ics/23021/
VERSION:2.0
X-PUBLISHED-TTL:PT1H
X-WR-CALNAME:Fortnightly Coffee Morning/Chit Chat and Drop In (23021)
BEGIN:VTIMEZONE
TZID:GMT Standard Time
X-LIC-LOCATION:Europe/London
BEGIN:STANDARD
DTSTART:20241027T020000
RRULE:FREQ=YEARLY;BYDAY=4SU;BYMONTH=10
TZNAME:GMT
TZOFFSETFROM:+0100
TZOFFSETTO:+0000
END:STANDARD
BEGIN:DAYLIGHT
DTSTART:20250330T010000
RRULE:FREQ=YEARLY;BYDAY=-1SU;BYMONTH=3
TZNAME:BST
TZOFFSETFROM:+0000
TZOFFSETTO:+0100
END:DAYLIGHT
END:VTIMEZONE
BEGIN:VEVENT
CATEGORIES:Family Friendly
CATEGORIES:Health and Wellbeing
CATEGORIES:Give it a Go
CATEGORIES:Reslife
CATEGORIES:Supporting Staffs
CREATED:20231109T203239
DESCRIPTION:Welcome to the first of our Fortnightly drop in sessions at th
 e Green House. \nWe will have Tea\, Coffee\, Snacks and Nibbles. Theres s
 pace to chill and chat about whatever you want. Drop in and join us!\n\nh
 ttps://www.staffsunion.com/events/19173/23021/\n
DTEND:20231122T123000
DTSTAMP:20260423T093656Z
DTSTART:20231122T093000
LAST-MODIFIED:20231109T203239
LOCATION:Green House\, Royal Doulton Building\, Stoke Campus
SEQUENCE:0
SUMMARY:Fortnightly Coffee Morning/Chit Chat and Drop In
UID:05c5d004-97e3-4d02-9909-997ce288aa53
URL:https://www.staffsunion.com/events/19173/23021/
X-ALT-DESC;FMTTYPE=text/html:<html><head><base href="https://www.staffsuni
 on.com"></head><body><p>Welcome to the first of our Fortnightly drop in s
 essions at the Green House. \nWe will have Tea\, Coffee\, Snacks and Nibb
 les. Theres space to chill and chat about whatever you want. Drop in and 
 join us!</p><p>https://www.staffsunion.com/events/19173/23021/</p>\n<p>We
  will be taking over the Green House\, Royal Doulton Building\, Stoke Cam
 pus from 9:30am to 12:30pm Every other Wednesday. Feel free to drop in an
 d chill out or chat. We can offer tea\, coffee\, snacks and a friendly su
 pportive (as far as fellow Students can be!) ear. We will have private sp
 aces available if needed.&nbsp\;</p>\n\n<p>Everyone welcome.</p>\n\n<p>N.
 B As fellow Students we are not proffessionals in Mental Health Support\,
  We do however have a lot of lived experience we can draw upon! Our roles
  will be to listen\, support and signpost. These drop in sessions are add
 itional to and do not replace any other proffessional or university level
  arranged support.&nbsp\;</p></body></html>
END:VEVENT
END:VCALENDAR
