BEGIN:VCALENDAR
METHOD:PUBLISH
PRODID:-//github.com/rianjs/ical.net//NONSGML ical.net 4.0//EN
URL:https://www.staffsunion.com/ents/event/ics/23564/
VERSION:2.0
X-PUBLISHED-TTL:PT1H
X-WR-CALNAME:Debate Night 3: The Finale (23564)
BEGIN:VTIMEZONE
TZID:GMT Standard Time
X-LIC-LOCATION:Europe/London
BEGIN:STANDARD
DTSTART:20241027T020000
RRULE:FREQ=YEARLY;BYDAY=4SU;BYMONTH=10
TZNAME:GMT
TZOFFSETFROM:+0100
TZOFFSETTO:+0000
END:STANDARD
BEGIN:DAYLIGHT
DTSTART:20250330T010000
RRULE:FREQ=YEARLY;BYDAY=-1SU;BYMONTH=3
TZNAME:BST
TZOFFSETFROM:+0000
TZOFFSETTO:+0100
END:DAYLIGHT
END:VTIMEZONE
BEGIN:VEVENT
CATEGORIES:Academic Interests
CATEGORIES:Activities and Games
CATEGORIES:Cultural and International
CATEGORIES:Give it a Go
CATEGORIES:Inclusion
CATEGORIES:Collaboration with student groups
CREATED:20240130T143805
DESCRIPTION:WITH KEELE ACS \n\nSpeak now or forever hold your peace! Discu
 ssing controversial topics that are significant to the social climate\, o
 nce more.\n\nhttps://www.staffsunion.com/events/6032/23564/\n
DTEND;VALUE=DATE:20240315
DTSTAMP:20260420T083258Z
DTSTART;VALUE=DATE:20240314
LAST-MODIFIED:20240313T094130
LOCATION:Keele
SEQUENCE:0
SUMMARY:Debate Night 3: The Finale
UID:166f3d38-861f-4797-ba78-9e267ddb8992
URL:https://www.staffsunion.com/events/6032/23564/
X-ALT-DESC;FMTTYPE=text/html:<html><head><base href="https://www.staffsuni
 on.com"></head><body><p>WITH KEELE ACS \n\nSpeak now or forever hold your
  peace! Discussing controversial topics that are significant to the socia
 l climate\, once more.</p><p>https://www.staffsunion.com/events/6032/2356
 4/</p>\n<p>IN COLLABORATION <em><strong>WITH KEELE ACS&nbsp\;</strong></e
 m></p>\n\n<p>Speak now or forever hold your peace! Discussing controversi
 al topics that are significant to the social climate\, once more.</p>\n\n
 <p>For details following the topics being discussed\, make sure to join o
 ur groupchat or follow our instagram @staffs_acs&nbsp\;</p>\n\n<h1><stron
 g>INFORMATION</strong></h1>\n\n<p>LOCATION: KEELE TBA&nbsp\;</p>\n\n<p>TI
 ME: 6PM - 9PM&nbsp\;</p></body></html>
END:VEVENT
END:VCALENDAR
