BEGIN:VCALENDAR
METHOD:PUBLISH
PRODID:-//github.com/rianjs/ical.net//NONSGML ical.net 4.0//EN
URL:https://www.staffsunion.com/ents/event/ics/23569/
VERSION:2.0
X-PUBLISHED-TTL:PT1H
X-WR-CALNAME:ACS Sports day (23569)
BEGIN:VTIMEZONE
TZID:GMT Standard Time
X-LIC-LOCATION:Europe/London
BEGIN:STANDARD
DTSTART:20241027T020000
RRULE:FREQ=YEARLY;BYDAY=4SU;BYMONTH=10
TZNAME:GMT
TZOFFSETFROM:+0100
TZOFFSETTO:+0000
END:STANDARD
BEGIN:DAYLIGHT
DTSTART:20250330T010000
RRULE:FREQ=YEARLY;BYDAY=-1SU;BYMONTH=3
TZNAME:BST
TZOFFSETFROM:+0000
TZOFFSETTO:+0100
END:DAYLIGHT
END:VTIMEZONE
BEGIN:VEVENT
CATEGORIES:Family Friendly
CATEGORIES:Sport
CATEGORIES:Health and Wellbeing
CATEGORIES:Activities and Games
CATEGORIES:Cultural and International
CATEGORIES:Inclusion
CATEGORIES:Collaboration with student groups
CREATED:20240130T144842
DESCRIPTION:Nothing brings us together than sports! Bring first place home
  with your friends to close the year.\n\nhttps://www.staffsunion.com/even
 ts/6032/23569/\n
DTEND:20240527T180000
DTSTAMP:20260421T060336Z
DTSTART:20240527T140000
LAST-MODIFIED:20240313T094317
LOCATION:Keele\, Open Field
SEQUENCE:0
SUMMARY:ACS Sports day
UID:ee380ff8-c97a-4775-868d-4bf6dcf40d7b
URL:https://www.staffsunion.com/events/6032/23569/
X-ALT-DESC;FMTTYPE=text/html:<html><head><base href="https://www.staffsuni
 on.com"></head><body><p>Nothing brings us together than sports! Bring fir
 st place home with your friends to close the year.</p><p>https://www.staf
 fsunion.com/events/6032/23569/</p>\n<h2><strong>IMPORTANT INFORMATION&nbs
 p\;</strong></h2>\n\n<p>LOCATION: KEELE OPEN FIELD</p>\n\n<p>TIME: 2PM - 
 6PM</p></body></html>
END:VEVENT
END:VCALENDAR
