BEGIN:VCALENDAR
METHOD:PUBLISH
PRODID:-//github.com/rianjs/ical.net//NONSGML ical.net 4.0//EN
URL:https://www.staffsunion.com/ents/event/ics/23802/
VERSION:2.0
X-PUBLISHED-TTL:PT1H
X-WR-CALNAME:Knot A Sports Day (23802)
BEGIN:VTIMEZONE
TZID:GMT Standard Time
X-LIC-LOCATION:Europe/London
BEGIN:STANDARD
DTSTART:20241027T020000
RRULE:FREQ=YEARLY;BYDAY=4SU;BYMONTH=10
TZNAME:GMT
TZOFFSETFROM:+0100
TZOFFSETTO:+0000
END:STANDARD
BEGIN:DAYLIGHT
DTSTART:20250330T010000
RRULE:FREQ=YEARLY;BYDAY=-1SU;BYMONTH=3
TZNAME:BST
TZOFFSETFROM:+0000
TZOFFSETTO:+0100
END:DAYLIGHT
END:VTIMEZONE
BEGIN:VEVENT
CATEGORIES:University events
CREATED:20240325T100958
DESCRIPTION:Get ready for a jam packed day of classic sporting events\, me
 ntal challenges and some exciting reinventions. No matter your age\, abil
 ity or gender\, there’s an event for everyone.\n\nhttps://www.staffsunion
 .com/events/7810/23802/\n
DTEND:20240628T153000
DTSTAMP:20260421T041006Z
DTSTART:20240628T093000
LAST-MODIFIED:20240325T100958
LOCATION:Leek Road site\, Stoke-on-Trent
SEQUENCE:0
SUMMARY:Knot A Sports Day
UID:dedc45c4-4e1d-4cb3-8c15-677e352b6335
URL:https://www.staffsunion.com/events/7810/23802/
X-ALT-DESC;FMTTYPE=text/html:<html><head><base href="https://www.staffsuni
 on.com"></head><body><p>Get ready for a jam packed day of classic sportin
 g events\, mental challenges and some exciting reinventions. No matter yo
 ur age\, ability or gender\, there’s an event for everyone.</p><p>https:/
 /www.staffsunion.com/events/7810/23802/</p>\n<p>The Sports Day is back an
 d it is bigger than ever! You&rsquo\;ll knot want to miss this one!&nbsp\
 ;</p>\n\n<p>10 local businesses have banded together to create &lsquo\;Kn
 ot a Sports Day&rsquo\; where everyone will participate in an inclusive t
 raditional sports day all in the name of charity.<br />\n<br />\nGet read
 y for a jam packed day of classic sporting events\, mental challenges and
  some exciting reinventions. No matter your age\, ability or gender\, the
 re&rsquo\;s an event for everyone.</p>\n\n<p>The funds raised will go to 
 incredible local charities and make a genuine difference in people&rsquo\
 ;s lives\, the charities are:</p>\n\n<p>&bull\; &nbsp\; &nbsp\;Horizon Fu
 nd<br />\n&bull\; &nbsp\; &nbsp\;Stoke City Community Trust<br />\n&bull\
 ; &nbsp\; &nbsp\;Brake<br />\n&bull\; &nbsp\; &nbsp\;Alice Charity<br />\
 n&bull\; &nbsp\; &nbsp\;Staffordshire Chamber Charities<br />\n&bull\; &n
 bsp\; &nbsp\;The Gingerbread Centre<br />\n&bull\; &nbsp\; &nbsp\;AED don
 ate<br />\n&bull\; &nbsp\; &nbsp\;Symmetrical&nbsp\;<br />\n&bull\; &nbsp
 \; &nbsp\;Affordable Food Stoke</p>\n\n<h2>Join in the fun by entering a 
 team</h2>\n\n<p>Secure your place for just &pound\;50 per person by signi
 ng up at&nbsp\;<a href="https://www.knot-events.co.uk/">knot-events.co.uk
 </a>&nbsp\;or email&nbsp\;<a href="https://workvivo.staffs.ac.uk/news/man
 age/nfo@knot-events.co.uk">info@knot-events.co.uk</a>&nbsp\;for further i
 nformation.&nbsp\;</p>\n\n<p>The day itself is taking place on our Leek R
 oad site in Stoke-on-Trent on<strong>&nbsp\;Friday 28 June 2024</strong>.
 </p>\n\n<p>Entry Rules:<br />\n<br />\n&bull\; Gather your squad of 6 to 
 10 members.<br />\n&bull\; Come up with a creative team name.<br />\n&bul
 l\; Feel free to enter more than one team</p></body></html>
END:VEVENT
END:VCALENDAR
