BEGIN:VCALENDAR
METHOD:PUBLISH
PRODID:-//github.com/rianjs/ical.net//NONSGML ical.net 4.0//EN
URL:https://www.staffsunion.com/ents/event/ics/25151/
VERSION:2.0
X-PUBLISHED-TTL:PT1H
X-WR-CALNAME:Cosplay and craft session (25151)
BEGIN:VTIMEZONE
TZID:GMT Standard Time
X-LIC-LOCATION:Europe/London
BEGIN:STANDARD
DTSTART:20241027T020000
RRULE:FREQ=YEARLY;BYDAY=4SU;BYMONTH=10
TZNAME:GMT
TZOFFSETFROM:+0100
TZOFFSETTO:+0000
END:STANDARD
BEGIN:DAYLIGHT
DTSTART:20250330T010000
RRULE:FREQ=YEARLY;BYDAY=-1SU;BYMONTH=3
TZNAME:BST
TZOFFSETFROM:+0000
TZOFFSETTO:+0100
END:DAYLIGHT
END:VTIMEZONE
BEGIN:VEVENT
CREATED:20240829T125652
DESCRIPTION:Members meet up! Make sure to join the discord to know what se
 ssion is running!\n\nhttps://www.staffsunion.com/events/14666/25151/\n
DTEND:20241023T180000
DTSTAMP:20260424T130440Z
DTSTART:20241023T150000
LAST-MODIFIED:20240829T125652
LOCATION:T005 Beacon
SEQUENCE:0
SUMMARY:Cosplay and craft session
UID:8c0f7690-b1b4-4c4a-ba7e-3bb902876e2c
URL:https://www.staffsunion.com/events/14666/25151/
X-ALT-DESC;FMTTYPE=text/html:<html><head><base href="https://www.staffsuni
 on.com"></head><body><p>Members meet up! Make sure to join the discord to
  know what session is running!</p><p>https://www.staffsunion.com/events/1
 4666/25151/</p>\n</body></html>
END:VEVENT
END:VCALENDAR
