BEGIN:VCALENDAR
METHOD:PUBLISH
PRODID:-//github.com/rianjs/ical.net//NONSGML ical.net 4.0//EN
URL:https://www.staffsunion.com/ents/event/ics/25444/
VERSION:2.0
X-PUBLISHED-TTL:PT1H
X-WR-CALNAME:GIAG (Give it a go) Session (25444)
BEGIN:VTIMEZONE
TZID:GMT Standard Time
X-LIC-LOCATION:Europe/London
BEGIN:STANDARD
DTSTART:20241027T020000
RRULE:FREQ=YEARLY;BYDAY=4SU;BYMONTH=10
TZNAME:GMT
TZOFFSETFROM:+0100
TZOFFSETTO:+0000
END:STANDARD
BEGIN:DAYLIGHT
DTSTART:20250330T010000
RRULE:FREQ=YEARLY;BYDAY=-1SU;BYMONTH=3
TZNAME:BST
TZOFFSETFROM:+0000
TZOFFSETTO:+0100
END:DAYLIGHT
END:VTIMEZONE
BEGIN:VEVENT
CATEGORIES:Music and Dance
CREATED:20240911T200225
DESCRIPTION:We take part in doing an RDP (random dance play) and following
  along to kpop choreographies.\n\nhttps://www.staffsunion.com/events/1944
 4/25444/\n
DTEND:20241001T210000
DTSTAMP:20260420T140828Z
DTSTART:20241001T170000
LAST-MODIFIED:20240911T200225
LOCATION:Flaxman L410
SEQUENCE:0
SUMMARY:GIAG (Give it a go) Session
UID:7421de0d-84a7-4f87-a028-d6a5c036d77e
URL:https://www.staffsunion.com/events/19444/25444/
X-ALT-DESC;FMTTYPE=text/html:<html><head><base href="https://www.staffsuni
 on.com"></head><body><p>We take part in doing an RDP (random dance play) 
 and following along to kpop choreographies.</p><p>https://www.staffsunion
 .com/events/19444/25444/</p>\n<p>At the start you&#39\;ll learn an easy d
 ance (this year it&#39\;s G(I)-dle Kalxon). We will then do an RDP and fi
 nally we will follow along to any kpop choreographies you choose.</p>\n\n
 <p>We will go over everything in more detail in the session!!</p></body><
 /html>
END:VEVENT
END:VCALENDAR
