BEGIN:VCALENDAR
METHOD:PUBLISH
PRODID:-//github.com/rianjs/ical.net//NONSGML ical.net 4.0//EN
URL:https://www.staffsunion.com/ents/event/ics/25506/
VERSION:2.0
X-PUBLISHED-TTL:PT1H
X-WR-CALNAME:Moutaineering - SSMSC (25506)
BEGIN:VTIMEZONE
TZID:GMT Standard Time
X-LIC-LOCATION:Europe/London
BEGIN:STANDARD
DTSTART:20241027T020000
RRULE:FREQ=YEARLY;BYDAY=4SU;BYMONTH=10
TZNAME:GMT
TZOFFSETFROM:+0100
TZOFFSETTO:+0000
END:STANDARD
BEGIN:DAYLIGHT
DTSTART:20250330T010000
RRULE:FREQ=YEARLY;BYDAY=-1SU;BYMONTH=3
TZNAME:BST
TZOFFSETFROM:+0000
TZOFFSETTO:+0100
END:DAYLIGHT
END:VTIMEZONE
BEGIN:VEVENT
CATEGORIES:Sport
CREATED:20240913T132616
DESCRIPTION:Join us for a climbing session at our wall in the Sports Hall.
 \n\nPlease wear appropriate sports clothes and footwear.\n\nhttps://www.s
 taffsunion.com/events/6230/25506/\n
DTEND:20241018T190000
DTSTAMP:20260421T170114Z
DTSTART:20241018T170000
LAST-MODIFIED:20240913T132616
LOCATION:SSMSC - Sports Hall
SEQUENCE:0
SUMMARY:Moutaineering - SSMSC
UID:1f411825-7f5e-4925-829c-1d353f88035c
URL:https://www.staffsunion.com/events/6230/25506/
X-ALT-DESC;FMTTYPE=text/html:<html><head><base href="https://www.staffsuni
 on.com"></head><body><p>Join us for a climbing session at our wall in the
  Sports Hall.\n\nPlease wear appropriate sports clothes and footwear.</p>
 <p>https://www.staffsunion.com/events/6230/25506/</p>\n</body></html>
END:VEVENT
END:VCALENDAR
