BEGIN:VCALENDAR
METHOD:PUBLISH
PRODID:-//github.com/rianjs/ical.net//NONSGML ical.net 4.0//EN
URL:https://www.staffsunion.com/ents/event/ics/25583/
VERSION:2.0
X-PUBLISHED-TTL:PT1H
X-WR-CALNAME:ACS Volleyball (25583)
BEGIN:VTIMEZONE
TZID:GMT Standard Time
X-LIC-LOCATION:Europe/London
BEGIN:STANDARD
DTSTART:20241027T020000
RRULE:FREQ=YEARLY;BYDAY=4SU;BYMONTH=10
TZNAME:GMT
TZOFFSETFROM:+0100
TZOFFSETTO:+0000
END:STANDARD
BEGIN:DAYLIGHT
DTSTART:20250330T010000
RRULE:FREQ=YEARLY;BYDAY=-1SU;BYMONTH=3
TZNAME:BST
TZOFFSETFROM:+0000
TZOFFSETTO:+0100
END:DAYLIGHT
END:VTIMEZONE
BEGIN:VEVENT
CATEGORIES:Sport
CATEGORIES:Activities and Games
CATEGORIES:Give it a Go
CATEGORIES:Collaboration with student groups
CATEGORIES:Not Wheelchair Accessible
CREATED:20240917T203110
DESCRIPTION:This will be a chill sports session feel free to attend and pa
 rticipate. No experience is needed! It's just about the vibes and enthusi
 asm.\n\nhttps://www.staffsunion.com/events/6032/25583/\n
DTEND:20241002T150000
DTSTAMP:20260423T154952Z
DTSTART:20241002T130000
LAST-MODIFIED:20240917T205736
LOCATION:Sir Stanley Matthews Sports Centre
SEQUENCE:0
SUMMARY:ACS Volleyball
UID:c3f7ca2b-fa48-4cb3-885e-887a44af9392
URL:https://www.staffsunion.com/events/6032/25583/
X-ALT-DESC;FMTTYPE=text/html:<html><head><base href="https://www.staffsuni
 on.com"></head><body><p>This will be a chill sports session feel free to 
 attend and participate. No experience is needed! It's just about the vibe
 s and enthusiasm.</p><p>https://www.staffsunion.com/events/6032/25583/</p
 >\n<p>Time to get active! We&rsquo\;ve partnered up @Volleyball with&nbsp
 \;to host our first sports event of the year\, Volleyball!<br />\n<br />\
 nThis will be a chill sports session feel free to attend and participate.
  No experience is needed! It&#39\;s just about the vibes and enthusiasm.<
 br />\n<br />\nYou can either sit back or be as competitive as you want&n
 bsp\;</p></body></html>
END:VEVENT
END:VCALENDAR
