BEGIN:VCALENDAR
METHOD:PUBLISH
PRODID:-//github.com/rianjs/ical.net//NONSGML ical.net 4.0//EN
URL:https://www.staffsunion.com/ents/event/ics/25595/
VERSION:2.0
X-PUBLISHED-TTL:PT1H
X-WR-CALNAME:ACS - Mama Jo's Masterclass (25595)
BEGIN:VTIMEZONE
TZID:GMT Standard Time
X-LIC-LOCATION:Europe/London
BEGIN:STANDARD
DTSTART:20241027T020000
RRULE:FREQ=YEARLY;BYDAY=4SU;BYMONTH=10
TZNAME:GMT
TZOFFSETFROM:+0100
TZOFFSETTO:+0000
END:STANDARD
BEGIN:DAYLIGHT
DTSTART:20250330T010000
RRULE:FREQ=YEARLY;BYDAY=-1SU;BYMONTH=3
TZNAME:BST
TZOFFSETFROM:+0000
TZOFFSETTO:+0100
END:DAYLIGHT
END:VTIMEZONE
BEGIN:VEVENT
CATEGORIES:Verve
CATEGORIES:Exclude
CREATED:20240917T212940
DESCRIPTION:Get it while it's HOT!\n\nhttps://www.staffsunion.com/events/6
 032/25595/\n
DTEND:20241121T210000
DTSTAMP:20260421T111942Z
DTSTART:20241121T170000
LAST-MODIFIED:20241120T160355
LOCATION:The Verve
SEQUENCE:0
SUMMARY:ACS - Mama Jo's Masterclass
UID:ec5c588c-19d2-4b2a-a96e-026f351d0788
URL:https://www.staffsunion.com/events/6032/25595/
X-ALT-DESC;FMTTYPE=text/html:<html><head><base href="https://www.staffsuni
 on.com"></head><body><p>Get it while it's HOT!</p><p>https://www.staffsun
 ion.com/events/6032/25595/</p>\n<p>Get it while it&rsquo\;s HOT!<br />\n<
 br />\nWe&rsquo\;re whipping up the flavours with&nbsp\;<a href="https://
 www.instagram.com/mamajomunchies/" tabindex="0">@mamajomunchies</a>&nbsp\
 ;where she&rsquo\;ll prepare and demonstrate how to cook an incredible &l
 dquo\;Sweet chilli wings with Mac n&rsquo\; Cheese&rdquo\; on a student f
 riendly budget.<br />\n<br />\nThis event is a completely free event for 
 everyone to learn and engage with as a society! So bring an appetite and 
 an open mind!</p></body></html>
END:VEVENT
END:VCALENDAR
