BEGIN:VCALENDAR
METHOD:PUBLISH
PRODID:-//github.com/rianjs/ical.net//NONSGML ical.net 4.0//EN
URL:https://www.staffsunion.com/ents/event/ics/25739/
VERSION:2.0
X-PUBLISHED-TTL:PT1H
X-WR-CALNAME:Give it a Go - Arts and Craft Session 1 (25739)
BEGIN:VTIMEZONE
TZID:GMT Standard Time
X-LIC-LOCATION:Europe/London
BEGIN:STANDARD
DTSTART:20241027T020000
RRULE:FREQ=YEARLY;BYDAY=4SU;BYMONTH=10
TZNAME:GMT
TZOFFSETFROM:+0100
TZOFFSETTO:+0000
END:STANDARD
BEGIN:DAYLIGHT
DTSTART:20250330T010000
RRULE:FREQ=YEARLY;BYDAY=-1SU;BYMONTH=3
TZNAME:BST
TZOFFSETFROM:+0000
TZOFFSETTO:+0100
END:DAYLIGHT
END:VTIMEZONE
BEGIN:VEVENT
CATEGORIES:Activities and Games
CATEGORIES:Give it a Go
CATEGORIES:Welcome Events
CREATED:20240923T161430
DESCRIPTION:Cosy Club's Give-it-a-Go Arts and Craft session! This will be 
 a free session for non-members to come and try out the society before com
 mitting to purchasing membership. In this session we will be playing some
  artsy games and making bookmarks!\n\nhttps://www.staffsunion.com/events/
 28096/25739/\n
DTEND:20241003T173000
DTSTAMP:20260421T114131Z
DTSTART:20241003T160000
LAST-MODIFIED:20240923T161430
LOCATION:L216 - Flaxman Building
SEQUENCE:0
SUMMARY:Give it a Go - Arts and Craft Session 1
UID:3b8983fe-e73c-477b-b857-acb56d2a09d0
URL:https://www.staffsunion.com/events/28096/25739/
X-ALT-DESC;FMTTYPE=text/html:<html><head><base href="https://www.staffsuni
 on.com"></head><body><p>Cosy Club's Give-it-a-Go Arts and Craft session! 
 This will be a free session for non-members to come and try out the socie
 ty before committing to purchasing membership. In this session we will be
  playing some artsy games and making bookmarks!</p><p>https://www.staffsu
 nion.com/events/28096/25739/</p>\n<p>Cosy Club&#39\;s Give-it-a-Go Arts a
 nd Craft session! This will be a free session for non-members to come and
  try out the society before committing to purchasing membership. In this 
 session we will be playing some artsy games as an icebreaker&nbsp\;and th
 en we will be making bookmarks! We will provide art supplies\, however\, 
 we strongly encourage you to bring along any you might have as well.</p><
 /body></html>
END:VEVENT
END:VCALENDAR
