BEGIN:VCALENDAR
METHOD:PUBLISH
PRODID:-//github.com/rianjs/ical.net//NONSGML ical.net 4.0//EN
URL:https://www.staffsunion.com/ents/event/ics/25804/
VERSION:2.0
X-PUBLISHED-TTL:PT1H
X-WR-CALNAME:Yu-Gi-Oh Tournament (25804)
BEGIN:VTIMEZONE
TZID:GMT Standard Time
X-LIC-LOCATION:Europe/London
BEGIN:STANDARD
DTSTART:20241027T020000
RRULE:FREQ=YEARLY;BYDAY=4SU;BYMONTH=10
TZNAME:GMT
TZOFFSETFROM:+0100
TZOFFSETTO:+0000
END:STANDARD
BEGIN:DAYLIGHT
DTSTART:20250330T010000
RRULE:FREQ=YEARLY;BYDAY=-1SU;BYMONTH=3
TZNAME:BST
TZOFFSETFROM:+0000
TZOFFSETTO:+0100
END:DAYLIGHT
END:VTIMEZONE
BEGIN:VEVENT
CATEGORIES:Esports and Gaming
CATEGORIES:Group Members Only
CREATED:20240927T143909
DESCRIPTION:Swiss Structure YGO tournament for members\, \nLatest TCG banl
 ist is in effect\n\nhttps://www.staffsunion.com/events/26952/25804/\n
DTEND:20241002T210000
DTSTAMP:20260422T092523Z
DTSTART:20241002T170000
LAST-MODIFIED:20240929T164801
LOCATION:L518 Flaxman
SEQUENCE:0
SUMMARY:Yu-Gi-Oh Tournament
UID:da1c49e2-627f-4122-a0a1-9e7bc38c99ec
URL:https://www.staffsunion.com/events/26952/25804/
X-ALT-DESC;FMTTYPE=text/html:<html><head><base href="https://www.staffsuni
 on.com"></head><body><p>Swiss Structure YGO tournament for members\, \nLa
 test TCG banlist is in effect</p><p>https://www.staffsunion.com/events/26
 952/25804/</p>\n<h3>Join Yu Gi&nbsp\;Oh! society members for the first to
 urnament of the academic year.</h3>\n\n<h3>Swiss Structure YGO tournament
  for members\,&nbsp\;<br />\nLatest TCG banlist is in effect</h3>\n\n<h3>
 Tournament entry costs &pound\;5</h3>\n\n<h3>See you there!</h3></body></
 html>
END:VEVENT
END:VCALENDAR
