BEGIN:VCALENDAR
METHOD:PUBLISH
PRODID:-//github.com/rianjs/ical.net//NONSGML ical.net 4.0//EN
URL:https://www.staffsunion.com/ents/event/ics/26804/
VERSION:2.0
X-PUBLISHED-TTL:PT1H
X-WR-CALNAME:YGO Tournament (26804)
BEGIN:VTIMEZONE
TZID:GMT Standard Time
X-LIC-LOCATION:Europe/London
BEGIN:STANDARD
DTSTART:20241027T020000
RRULE:FREQ=YEARLY;BYDAY=4SU;BYMONTH=10
TZNAME:GMT
TZOFFSETFROM:+0100
TZOFFSETTO:+0000
END:STANDARD
BEGIN:DAYLIGHT
DTSTART:20250330T010000
RRULE:FREQ=YEARLY;BYDAY=-1SU;BYMONTH=3
TZNAME:BST
TZOFFSETFROM:+0000
TZOFFSETTO:+0100
END:DAYLIGHT
END:VTIMEZONE
BEGIN:VEVENT
CATEGORIES:Esports and Gaming
CREATED:20250117T153912
DESCRIPTION:https://www.staffsunion.com/events/26952/26804/\n
DTEND:20250120T210000
DTSTAMP:20260421T090900Z
DTSTART:20250120T170000
LAST-MODIFIED:20250117T153912
LOCATION:Flaxman L316
SEQUENCE:0
SUMMARY:YGO Tournament
UID:575e36c5-a371-45e9-83b1-e748db96af35
URL:https://www.staffsunion.com/events/26952/26804/
X-ALT-DESC;FMTTYPE=text/html:<html><head><base href="https://www.staffsuni
 on.com"></head><body><p>https://www.staffsunion.com/events/26952/26804/</
 p>\n</body></html>
END:VEVENT
END:VCALENDAR
