BEGIN:VCALENDAR
METHOD:PUBLISH
PRODID:-//github.com/rianjs/ical.net//NONSGML ical.net 4.0//EN
URL:https://www.staffsunion.com/ents/event/ics/26850/
VERSION:2.0
X-PUBLISHED-TTL:PT1H
X-WR-CALNAME:End of Year Furmeet for 24/25 w/ Special Awards Ceremony (268
 50)
BEGIN:VTIMEZONE
TZID:GMT Standard Time
X-LIC-LOCATION:Europe/London
BEGIN:STANDARD
DTSTART:20241027T020000
RRULE:FREQ=YEARLY;BYDAY=4SU;BYMONTH=10
TZNAME:GMT
TZOFFSETFROM:+0100
TZOFFSETTO:+0000
END:STANDARD
BEGIN:DAYLIGHT
DTSTART:20250330T010000
RRULE:FREQ=YEARLY;BYDAY=-1SU;BYMONTH=3
TZNAME:BST
TZOFFSETFROM:+0000
TZOFFSETTO:+0100
END:DAYLIGHT
END:VTIMEZONE
BEGIN:VEVENT
CATEGORIES:Inclusion
CATEGORIES:LGBTQ+
CREATED:20250124T131609
DESCRIPTION:Casual games\, furries\, and an informal atmosphere with a spe
 cial awards event for all!\n\nhttps://www.staffsunion.com/events/25562/26
 850/\n
DTEND:20250528T220000
DTSTAMP:20260419T201449Z
DTSTART:20250528T170000
LAST-MODIFIED:20250502T140927
LOCATION:Catalyst CA201
SEQUENCE:0
SUMMARY:End of Year Furmeet for 24/25 w/ Special Awards Ceremony
UID:926d58af-1fce-40e5-970c-a4dda39642d3
URL:https://www.staffsunion.com/events/25562/26850/
X-ALT-DESC;FMTTYPE=text/html:<html><head><base href="https://www.staffsuni
 on.com"></head><body><p>Casual games\, furries\, and an informal atmosphe
 re with a special awards event for all!</p><p>https://www.staffsunion.com
 /events/25562/26850/</p>\n<p>Come along to the final Staf-fur-dshire soci
 ety furmeet of the year! It&#39\;s been an incredible year getting this S
 ociety off of the ground\, so let&#39\;s go out with a bang! With&nbsp\;C
 asual games\, furries\, and an informal atmosphere with a special awards 
 event for all!&nbsp\;</p></body></html>
END:VEVENT
END:VCALENDAR
