BEGIN:VCALENDAR
METHOD:PUBLISH
PRODID:-//github.com/rianjs/ical.net//NONSGML ical.net 4.0//EN
URL:https://www.staffsunion.com/ents/event/ics/26855/
VERSION:2.0
X-PUBLISHED-TTL:PT1H
X-WR-CALNAME:R.A.M.S Invasion - Jackbox Night (26855)
BEGIN:VTIMEZONE
TZID:GMT Standard Time
X-LIC-LOCATION:Europe/London
BEGIN:STANDARD
DTSTART:20241027T020000
RRULE:FREQ=YEARLY;BYDAY=4SU;BYMONTH=10
TZNAME:GMT
TZOFFSETFROM:+0100
TZOFFSETTO:+0000
END:STANDARD
BEGIN:DAYLIGHT
DTSTART:20250330T010000
RRULE:FREQ=YEARLY;BYDAY=-1SU;BYMONTH=3
TZNAME:BST
TZOFFSETFROM:+0000
TZOFFSETTO:+0100
END:DAYLIGHT
END:VTIMEZONE
BEGIN:VEVENT
CATEGORIES:Evening Entertainments
CATEGORIES:Family Friendly
CATEGORIES:Verve
CATEGORIES:Music and Dance
CATEGORIES:Activities and Games
CREATED:20250126T160443
DESCRIPTION:Come join us in Verve for our weekly invasion!\n\nThis week\, 
 we're playing Jackbox! There's a few different party packs available and 
 we may decide to play some different party games throughout the night too
 !\n\nhttps://www.staffsunion.com/events/6373/26855/\n
DTEND;VALUE=DATE:20250128
DTSTAMP:20260423T121238Z
DTSTART:20250127T210000
LAST-MODIFIED:20250126T160443
LOCATION:Verve
SEQUENCE:0
SUMMARY:R.A.M.S Invasion - Jackbox Night
UID:4ee5fce5-0dd3-4d55-a8e3-80e2dd43e0da
URL:https://www.staffsunion.com/events/6373/26855/
X-ALT-DESC;FMTTYPE=text/html:<html><head><base href="https://www.staffsuni
 on.com"></head><body><p>Come join us in Verve for our weekly invasion!\n\
 nThis week\, we're playing Jackbox! There's a few different party packs a
 vailable and we may decide to play some different party games throughout 
 the night too!</p><p>https://www.staffsunion.com/events/6373/26855/</p>\n
 <p>Come join us in Verve for our weekly invasion!</p>\n\n<p>This week\, w
 e&#39\;re playing Jackbox! There&#39\;s a few different party packs avail
 able and we may decide to play some different party games throughout the 
 night too!</p>\n\n<p>We are also collecting funds for Alcohol Change UK! 
 Accepting both cash and card donations.</p></body></html>
END:VEVENT
END:VCALENDAR
