BEGIN:VCALENDAR
METHOD:PUBLISH
PRODID:-//github.com/rianjs/ical.net//NONSGML ical.net 4.0//EN
URL:https://www.staffsunion.com/ents/event/ics/28835/
VERSION:2.0
X-PUBLISHED-TTL:PT1H
X-WR-CALNAME:Worship Night (28835)
BEGIN:VTIMEZONE
TZID:GMT Standard Time
X-LIC-LOCATION:Europe/London
BEGIN:STANDARD
DTSTART:20241027T020000
RRULE:FREQ=YEARLY;BYDAY=4SU;BYMONTH=10
TZNAME:GMT
TZOFFSETFROM:+0100
TZOFFSETTO:+0000
END:STANDARD
BEGIN:DAYLIGHT
DTSTART:20250330T010000
RRULE:FREQ=YEARLY;BYDAY=-1SU;BYMONTH=3
TZNAME:BST
TZOFFSETFROM:+0000
TZOFFSETTO:+0100
END:DAYLIGHT
END:VTIMEZONE
BEGIN:VEVENT
CATEGORIES:Faith and Religion
CREATED:20260421T084224
DESCRIPTION:Spending some time togther as a cu in prayer and sung worship\
 n\nhttps://www.staffsunion.com/events/6110/28835/\n
DTEND:20260514T210000
DTSTAMP:20260421T110711Z
DTSTART:20260514T183000
LAST-MODIFIED:20260421T084224
LOCATION:Verve
SEQUENCE:0
SUMMARY:Worship Night
UID:3d63b4b5-c7b0-45c8-a086-14074f75ab27
URL:https://www.staffsunion.com/events/6110/28835/
X-ALT-DESC;FMTTYPE=text/html:<html><head><base href="https://www.staffsuni
 on.com"></head><body><p>Spending some time togther as a cu in prayer and 
 sung worship</p><p>https://www.staffsunion.com/events/6110/28835/</p>\n</
 body></html>
END:VEVENT
END:VCALENDAR
