BEGIN:VCALENDAR
METHOD:PUBLISH
PRODID:-//github.com/rianjs/ical.net//NONSGML ical.net 4.0//EN
URL:https://www.staffsunion.com/ents/event/ics/28861/
VERSION:2.0
X-PUBLISHED-TTL:PT1H
X-WR-CALNAME:End of Year Show! - Black Coffee (28861)
BEGIN:VTIMEZONE
TZID:GMT Standard Time
X-LIC-LOCATION:Europe/London
BEGIN:STANDARD
DTSTART:20241027T020000
RRULE:FREQ=YEARLY;BYDAY=4SU;BYMONTH=10
TZNAME:GMT
TZOFFSETFROM:+0100
TZOFFSETTO:+0000
END:STANDARD
BEGIN:DAYLIGHT
DTSTART:20250330T010000
RRULE:FREQ=YEARLY;BYDAY=-1SU;BYMONTH=3
TZNAME:BST
TZOFFSETFROM:+0000
TZOFFSETTO:+0100
END:DAYLIGHT
END:VTIMEZONE
BEGIN:VEVENT
CATEGORIES:LRV
CREATED:20260422T165027
DESCRIPTION:Our end of year show is here! come find out who put the old ma
 n down with Hercule Poirot in Black Coffee!\n\nhttps://www.staffsunion.co
 m/events/6140/28861/\n
DTEND:20260510T184500
DTSTAMP:20260422T193348Z
DTSTART:20260509T184500
LAST-MODIFIED:20260422T165105
LOCATION:The LRV
SEQUENCE:0
SUMMARY:End of Year Show! - Black Coffee
UID:7b8dc675-d462-4299-9826-d0f43d90f1da
URL:https://www.staffsunion.com/events/6140/28861/
X-ALT-DESC;FMTTYPE=text/html:<html><head><base href="https://www.staffsuni
 on.com"></head><body><p>Our end of year show is here! come find out who p
 ut the old man down with Hercule Poirot in Black Coffee!</p><p>https://ww
 w.staffsunion.com/events/6140/28861/</p>\n<p>Hercule Poirot is here to sa
 ve the day with his detective skills\, can he find the formula for the at
 omic bomb before time runs out and the theif gets away?</p></body></html>
END:VEVENT
END:VCALENDAR
